BEGIN:VCALENDAR
VERSION:2.0
PRODID:-//The Metro Business Club of Winnipeg - ECPv6.15.11//NONSGML v1.0//EN
CALSCALE:GREGORIAN
METHOD:PUBLISH
X-WR-CALNAME:The Metro Business Club of Winnipeg
X-ORIGINAL-URL:https://themetroclub.com
X-WR-CALDESC:Events for The Metro Business Club of Winnipeg
REFRESH-INTERVAL;VALUE=DURATION:PT1H
X-Robots-Tag:noindex
X-PUBLISHED-TTL:PT1H
BEGIN:VTIMEZONE
TZID:America/Winnipeg
BEGIN:DAYLIGHT
TZOFFSETFROM:-0600
TZOFFSETTO:-0500
TZNAME:CDT
DTSTART:20250309T080000
END:DAYLIGHT
BEGIN:STANDARD
TZOFFSETFROM:-0500
TZOFFSETTO:-0600
TZNAME:CST
DTSTART:20251102T070000
END:STANDARD
BEGIN:DAYLIGHT
TZOFFSETFROM:-0600
TZOFFSETTO:-0500
TZNAME:CDT
DTSTART:20260308T080000
END:DAYLIGHT
BEGIN:STANDARD
TZOFFSETFROM:-0500
TZOFFSETTO:-0600
TZNAME:CST
DTSTART:20261101T070000
END:STANDARD
BEGIN:DAYLIGHT
TZOFFSETFROM:-0600
TZOFFSETTO:-0500
TZNAME:CDT
DTSTART:20270314T080000
END:DAYLIGHT
BEGIN:STANDARD
TZOFFSETFROM:-0500
TZOFFSETTO:-0600
TZNAME:CST
DTSTART:20271107T070000
END:STANDARD
END:VTIMEZONE
BEGIN:VEVENT
DTSTART;TZID=America/Winnipeg:20260812T150000
DTEND;TZID=America/Winnipeg:20260812T180000
DTSTAMP:20260419T161024
CREATED:20260227T202748Z
LAST-MODIFIED:20260227T203426Z
UID:4181-1786546800-1786557600@themetroclub.com
SUMMARY:Metro Club - Social Mixer
DESCRIPTION:Details to follow.
URL:https://themetroclub.com/event/metro-club-social-mixer/
LOCATION:Manitoba
CATEGORIES:Social Events
ATTACH;FMTTYPE=image/png:https://themetroclub.com/wp-content/uploads/2023/09/Wine-and-Cheese-Icon.png
END:VEVENT
BEGIN:VEVENT
DTSTART;TZID=America/Winnipeg:20260826T120000
DTEND;TZID=America/Winnipeg:20260826T133000
DTSTAMP:20260419T161024
CREATED:20260227T202909Z
LAST-MODIFIED:20260227T203358Z
UID:4183-1787745600-1787751000@themetroclub.com
SUMMARY:Metro Club Meeting - Ft. Garry Hotel
DESCRIPTION:Details to follow.
URL:https://themetroclub.com/event/metro-club-meeting-ft-garry-hotel-11/
LOCATION:Fort Gary Hotel\, 222 Broadway\, Winnipeg\, Manitoba\, R3C0R3\, Canada
CATEGORIES:Hotel Lunch
ATTACH;FMTTYPE=image/jpeg:https://themetroclub.com/wp-content/uploads/2021/06/Metro-Logo.jpg
END:VEVENT
END:VCALENDAR