BEGIN:VCALENDAR
VERSION:2.0
PRODID:-//The Metro Business Club of Winnipeg - ECPv6.15.11//NONSGML v1.0//EN
CALSCALE:GREGORIAN
METHOD:PUBLISH
X-ORIGINAL-URL:https://themetroclub.com
X-WR-CALDESC:Events for The Metro Business Club of Winnipeg
REFRESH-INTERVAL;VALUE=DURATION:PT1H
X-Robots-Tag:noindex
X-PUBLISHED-TTL:PT1H
BEGIN:VTIMEZONE
TZID:America/Winnipeg
BEGIN:DAYLIGHT
TZOFFSETFROM:-0600
TZOFFSETTO:-0500
TZNAME:CDT
DTSTART:20250309T080000
END:DAYLIGHT
BEGIN:STANDARD
TZOFFSETFROM:-0500
TZOFFSETTO:-0600
TZNAME:CST
DTSTART:20251102T070000
END:STANDARD
BEGIN:DAYLIGHT
TZOFFSETFROM:-0600
TZOFFSETTO:-0500
TZNAME:CDT
DTSTART:20260308T080000
END:DAYLIGHT
BEGIN:STANDARD
TZOFFSETFROM:-0500
TZOFFSETTO:-0600
TZNAME:CST
DTSTART:20261101T070000
END:STANDARD
BEGIN:DAYLIGHT
TZOFFSETFROM:-0600
TZOFFSETTO:-0500
TZNAME:CDT
DTSTART:20270314T080000
END:DAYLIGHT
BEGIN:STANDARD
TZOFFSETFROM:-0500
TZOFFSETTO:-0600
TZNAME:CST
DTSTART:20271107T070000
END:STANDARD
END:VTIMEZONE
BEGIN:VEVENT
DTSTART;TZID=America/Winnipeg:20260304T113000
DTEND;TZID=America/Winnipeg:20260304T133000
DTSTAMP:20260419T112006
CREATED:20251104T190910Z
LAST-MODIFIED:20260302T170318Z
UID:3844-1772623800-1772631000@themetroclub.com
SUMMARY:Metro Club Meeting Onsite - Kisik Commercial Furniture
DESCRIPTION:My Canadian manufacturer\, Global Furniture Group\, and Kisik will be hosting a lunch and learn for The Metro Club at the newly renovated Global Showroom with a tour of the showroom after presentation\, time permitting.  Come and hear Destiny Seymour\, Anishinaabe Interior Designer\, who create an Indigenous theme in the design of the space.\n\nWhere: 220-111 Lombard Ave\nWhen: March 4th 11:30-1:30pm\nRSVP – By Feb 20th
URL:https://themetroclub.com/event/metro-club-meeting-onsite-kisik-commercial-furniture/
LOCATION:Manitoba
CATEGORIES:Social Events
ATTACH;FMTTYPE=image/jpeg:https://themetroclub.com/wp-content/uploads/2022/03/Darrell-Brown.jpg
END:VEVENT
BEGIN:VEVENT
DTSTART;TZID=America/Winnipeg:20260318T120000
DTEND;TZID=America/Winnipeg:20260318T133000
DTSTAMP:20260419T112006
CREATED:20251104T191123Z
LAST-MODIFIED:20251104T191123Z
UID:3847-1773835200-1773840600@themetroclub.com
SUMMARY:Metro Club Meeting - Ft Garry Hotel
DESCRIPTION:Speaker – Pavel Valenta \nTopic – TBD
URL:https://themetroclub.com/event/metro-club-meeting-ft-garry-hotel-6/
LOCATION:Fort Gary Hotel\, 222 Broadway\, Winnipeg\, Manitoba\, R3C0R3\, Canada
CATEGORIES:Hotel Lunch
ATTACH;FMTTYPE=image/jpeg:https://themetroclub.com/wp-content/uploads/2023/06/PAVEL.jpg
END:VEVENT
END:VCALENDAR