BEGIN:VCALENDAR
VERSION:2.0
PRODID:-//The Metro Business Club of Winnipeg - ECPv6.15.11//NONSGML v1.0//EN
CALSCALE:GREGORIAN
METHOD:PUBLISH
X-ORIGINAL-URL:https://themetroclub.com
X-WR-CALDESC:Events for The Metro Business Club of Winnipeg
REFRESH-INTERVAL;VALUE=DURATION:PT1H
X-Robots-Tag:noindex
X-PUBLISHED-TTL:PT1H
BEGIN:VTIMEZONE
TZID:America/Winnipeg
BEGIN:DAYLIGHT
TZOFFSETFROM:-0600
TZOFFSETTO:-0500
TZNAME:CDT
DTSTART:20240310T080000
END:DAYLIGHT
BEGIN:STANDARD
TZOFFSETFROM:-0500
TZOFFSETTO:-0600
TZNAME:CST
DTSTART:20241103T070000
END:STANDARD
BEGIN:DAYLIGHT
TZOFFSETFROM:-0600
TZOFFSETTO:-0500
TZNAME:CDT
DTSTART:20250309T080000
END:DAYLIGHT
BEGIN:STANDARD
TZOFFSETFROM:-0500
TZOFFSETTO:-0600
TZNAME:CST
DTSTART:20251102T070000
END:STANDARD
BEGIN:DAYLIGHT
TZOFFSETFROM:-0600
TZOFFSETTO:-0500
TZNAME:CDT
DTSTART:20260308T080000
END:DAYLIGHT
BEGIN:STANDARD
TZOFFSETFROM:-0500
TZOFFSETTO:-0600
TZNAME:CST
DTSTART:20261101T070000
END:STANDARD
END:VTIMEZONE
BEGIN:VEVENT
DTSTART;TZID=America/Winnipeg:20251203T120000
DTEND;TZID=America/Winnipeg:20251203T133000
DTSTAMP:20260419T161038
CREATED:20251103T182125Z
LAST-MODIFIED:20251201T145504Z
UID:3819-1764763200-1764768600@themetroclub.com
SUMMARY:Metro Club Meeting - Ft Garry Hotel
DESCRIPTION:Speaker – Costa Cholakis
URL:https://themetroclub.com/event/metro-club-meeting-ft-garry-hotel/
LOCATION:Fort Gary Hotel\, 222 Broadway\, Winnipeg\, Manitoba\, R3C0R3\, Canada
CATEGORIES:Hotel Lunch
ATTACH;FMTTYPE=image/jpeg:https://themetroclub.com/wp-content/uploads/2022/01/Costa-Cholakis_Broadway-Florists.jpg
END:VEVENT
BEGIN:VEVENT
DTSTART;TZID=America/Winnipeg:20251217T120000
DTEND;TZID=America/Winnipeg:20251217T140000
DTSTAMP:20260419T161038
CREATED:20251103T182531Z
LAST-MODIFIED:20251103T182531Z
UID:3822-1765972800-1765980000@themetroclub.com
SUMMARY:Metro Club Holiday Lunch - Frankie's Italian
DESCRIPTION:Details to follow
URL:https://themetroclub.com/event/metro-club-holiday-lunch-frankies-italian/
LOCATION:Frankies\, 505 Sterling Lyon Pkwy\, Winnipeg\, Manitoba\, R3P 2S8\, Canada
CATEGORIES:Social Events
ATTACH;FMTTYPE=image/jpeg:https://themetroclub.com/wp-content/uploads/2021/12/istockphoto-183296619-170667a.jpg
END:VEVENT
END:VCALENDAR