BEGIN:VCALENDAR
VERSION:2.0
PRODID:-//The Metro Business Club of Winnipeg - ECPv6.15.11//NONSGML v1.0//EN
CALSCALE:GREGORIAN
METHOD:PUBLISH
X-ORIGINAL-URL:https://themetroclub.com
X-WR-CALDESC:Events for The Metro Business Club of Winnipeg
REFRESH-INTERVAL;VALUE=DURATION:PT1H
X-Robots-Tag:noindex
X-PUBLISHED-TTL:PT1H
BEGIN:VTIMEZONE
TZID:America/Winnipeg
BEGIN:DAYLIGHT
TZOFFSETFROM:-0600
TZOFFSETTO:-0500
TZNAME:CDT
DTSTART:20240310T080000
END:DAYLIGHT
BEGIN:STANDARD
TZOFFSETFROM:-0500
TZOFFSETTO:-0600
TZNAME:CST
DTSTART:20241103T070000
END:STANDARD
BEGIN:DAYLIGHT
TZOFFSETFROM:-0600
TZOFFSETTO:-0500
TZNAME:CDT
DTSTART:20250309T080000
END:DAYLIGHT
BEGIN:STANDARD
TZOFFSETFROM:-0500
TZOFFSETTO:-0600
TZNAME:CST
DTSTART:20251102T070000
END:STANDARD
BEGIN:DAYLIGHT
TZOFFSETFROM:-0600
TZOFFSETTO:-0500
TZNAME:CDT
DTSTART:20260308T080000
END:DAYLIGHT
BEGIN:STANDARD
TZOFFSETFROM:-0500
TZOFFSETTO:-0600
TZNAME:CST
DTSTART:20261101T070000
END:STANDARD
END:VTIMEZONE
BEGIN:VEVENT
DTSTART;TZID=America/Winnipeg:20250813T120000
DTEND;TZID=America/Winnipeg:20250813T140000
DTSTAMP:20260419T230630
CREATED:20250603T201715Z
LAST-MODIFIED:20250603T201807Z
UID:3322-1755086400-1755093600@themetroclub.com
SUMMARY:Site Metro Lunch - Santa Lucia Pizza
DESCRIPTION:Address: 4 St Mary’s Rd\, Winnipeg\, MB R2H 1H1
URL:https://themetroclub.com/event/site-metro-lunch-santa-lucia-pizza/
LOCATION:Santa Lucia\, 4 St. Mary's Road\, Winnipeg\, Manitoba\, R2H 1H1\, Canada
CATEGORIES:Social Events
ATTACH;FMTTYPE=image/png:https://themetroclub.com/wp-content/uploads/2024/01/2771401.png
END:VEVENT
BEGIN:VEVENT
DTSTART;TZID=America/Winnipeg:20250827T120000
DTEND;TZID=America/Winnipeg:20250827T133000
DTSTAMP:20260419T230630
CREATED:20250603T202000Z
LAST-MODIFIED:20250603T202029Z
UID:3325-1756296000-1756301400@themetroclub.com
SUMMARY:Metro Lunch Meeting - Fort Garry Hotel
DESCRIPTION:Table Talk year end discussion with members
URL:https://themetroclub.com/event/metro-lunch-fort-garry-hotel/
LOCATION:Manitoba
CATEGORIES:Hotel Lunch
ATTACH;FMTTYPE=image/png:https://themetroclub.com/wp-content/uploads/2021/09/cropped-metro_logo.png
END:VEVENT
END:VCALENDAR