BEGIN:VCALENDAR
VERSION:2.0
PRODID:-//The Metro Business Club of Winnipeg - ECPv6.15.11//NONSGML v1.0//EN
CALSCALE:GREGORIAN
METHOD:PUBLISH
X-WR-CALNAME:The Metro Business Club of Winnipeg
X-ORIGINAL-URL:https://themetroclub.com
X-WR-CALDESC:Events for The Metro Business Club of Winnipeg
REFRESH-INTERVAL;VALUE=DURATION:PT1H
X-Robots-Tag:noindex
X-PUBLISHED-TTL:PT1H
BEGIN:VTIMEZONE
TZID:America/Winnipeg
BEGIN:DAYLIGHT
TZOFFSETFROM:-0600
TZOFFSETTO:-0500
TZNAME:CDT
DTSTART:20240310T080000
END:DAYLIGHT
BEGIN:STANDARD
TZOFFSETFROM:-0500
TZOFFSETTO:-0600
TZNAME:CST
DTSTART:20241103T070000
END:STANDARD
BEGIN:DAYLIGHT
TZOFFSETFROM:-0600
TZOFFSETTO:-0500
TZNAME:CDT
DTSTART:20250309T080000
END:DAYLIGHT
BEGIN:STANDARD
TZOFFSETFROM:-0500
TZOFFSETTO:-0600
TZNAME:CST
DTSTART:20251102T070000
END:STANDARD
BEGIN:DAYLIGHT
TZOFFSETFROM:-0600
TZOFFSETTO:-0500
TZNAME:CDT
DTSTART:20260308T080000
END:DAYLIGHT
BEGIN:STANDARD
TZOFFSETFROM:-0500
TZOFFSETTO:-0600
TZNAME:CST
DTSTART:20261101T070000
END:STANDARD
END:VTIMEZONE
BEGIN:VEVENT
DTSTART;TZID=America/Winnipeg:20250716T170000
DTEND;TZID=America/Winnipeg:20250716T190000
DTSTAMP:20260420T004252
CREATED:20250603T201235Z
LAST-MODIFIED:20250711T141803Z
UID:3319-1752685200-1752692400@themetroclub.com
SUMMARY:Metro Lunch Meeting - Emerito Guevarra - Location / Time Change
DESCRIPTION:Craft Talk – JEM Insurance \nLocation 987 Portage Avenue
URL:https://themetroclub.com/event/metro-lunch-meeting-emerito-guevarra/
LOCATION:987 Portage\, 987 Portage Avenue\, Winnipeg\, Manitoba\, Canada
CATEGORIES:Hotel Lunch
ATTACH;FMTTYPE=image/jpeg:https://themetroclub.com/wp-content/uploads/2024/03/emerito.jpg
END:VEVENT
END:VCALENDAR