BEGIN:VCALENDAR
VERSION:2.0
PRODID:-//The Metro Business Club of Winnipeg - ECPv6.15.11//NONSGML v1.0//EN
CALSCALE:GREGORIAN
METHOD:PUBLISH
X-WR-CALNAME:The Metro Business Club of Winnipeg
X-ORIGINAL-URL:https://themetroclub.com
X-WR-CALDESC:Events for The Metro Business Club of Winnipeg
REFRESH-INTERVAL;VALUE=DURATION:PT1H
X-Robots-Tag:noindex
X-PUBLISHED-TTL:PT1H
BEGIN:VTIMEZONE
TZID:America/Winnipeg
BEGIN:DAYLIGHT
TZOFFSETFROM:-0600
TZOFFSETTO:-0500
TZNAME:CDT
DTSTART:20250309T080000
END:DAYLIGHT
BEGIN:STANDARD
TZOFFSETFROM:-0500
TZOFFSETTO:-0600
TZNAME:CST
DTSTART:20251102T070000
END:STANDARD
BEGIN:DAYLIGHT
TZOFFSETFROM:-0600
TZOFFSETTO:-0500
TZNAME:CDT
DTSTART:20260308T080000
END:DAYLIGHT
BEGIN:STANDARD
TZOFFSETFROM:-0500
TZOFFSETTO:-0600
TZNAME:CST
DTSTART:20261101T070000
END:STANDARD
BEGIN:DAYLIGHT
TZOFFSETFROM:-0600
TZOFFSETTO:-0500
TZNAME:CDT
DTSTART:20270314T080000
END:DAYLIGHT
BEGIN:STANDARD
TZOFFSETFROM:-0500
TZOFFSETTO:-0600
TZNAME:CST
DTSTART:20271107T070000
END:STANDARD
END:VTIMEZONE
BEGIN:VEVENT
DTSTART;TZID=America/Winnipeg:20260121T120000
DTEND;TZID=America/Winnipeg:20260121T133000
DTSTAMP:20260420T021939
CREATED:20251104T160404Z
LAST-MODIFIED:20251104T185733Z
UID:3832-1768996800-1769002200@themetroclub.com
SUMMARY:Metro Club Meeting  - Ft Garry Hotel
DESCRIPTION:Speaker  – Kerry Knudsen \nTopic – TBD
URL:https://themetroclub.com/event/metro-club-meeting-ft-garry-hotel-4/
LOCATION:Fort Gary Hotel\, 222 Broadway\, Winnipeg\, Manitoba\, R3C0R3\, Canada
CATEGORIES:Hotel Lunch
ATTACH;FMTTYPE=image/jpeg:https://themetroclub.com/wp-content/uploads/2021/07/Kerry-Knudsen_Spectrum.jpg
END:VEVENT
BEGIN:VEVENT
DTSTART;TZID=America/Winnipeg:20260204T130000
DTEND;TZID=America/Winnipeg:20260204T153000
DTSTAMP:20260420T021939
CREATED:20251104T160627Z
LAST-MODIFIED:20260130T180712Z
UID:3835-1770210000-1770219000@themetroclub.com
SUMMARY:Metro Club Event - AVID Golf
DESCRIPTION: Avid Golf\n1580 Taylor Ave\, Winnipeg\, MB R3N 2A7 \nWe’ll be enjoying a pizza lunch\, with coffee and soft drinks included. The bar will also be open if you’d like a libation. \nGuests are welcome if they may be a potential Metro Club member. \nTo help us plan appropriately\, please take a moment to RSVP through the Metro Club website as soon as possible so we can reserve the correct number of golf simulator bays and order food accordingly. \nLooking forward to a fun afternoon together 
URL:https://themetroclub.com/event/metro-club-event-avid-golf/
LOCATION:AVID Golf\, 1580 Taylor Avenue\, Winnipeg\, Winnipeg\, Canada
CATEGORIES:Social Events
ATTACH;FMTTYPE=image/png:https://themetroclub.com/wp-content/uploads/2022/03/140399.png
END:VEVENT
BEGIN:VEVENT
DTSTART;TZID=America/Winnipeg:20260218T120000
DTEND;TZID=America/Winnipeg:20260218T133000
DTSTAMP:20260420T021939
CREATED:20251104T185537Z
LAST-MODIFIED:20251104T185537Z
UID:3838-1771416000-1771421400@themetroclub.com
SUMMARY:Metro Club Meeting - Ft Garry Hotel
DESCRIPTION:Speaker – Dave Jackson
URL:https://themetroclub.com/event/metro-club-meeting-ft-garry-hotel-5/
LOCATION:Fort Gary Hotel\, 222 Broadway\, Winnipeg\, Manitoba\, R3C0R3\, Canada
CATEGORIES:Hotel Lunch
ATTACH;FMTTYPE=image/jpeg:https://themetroclub.com/wp-content/uploads/2022/10/Dave-Jackson.jpeg
END:VEVENT
BEGIN:VEVENT
DTSTART;TZID=America/Winnipeg:20260304T113000
DTEND;TZID=America/Winnipeg:20260304T133000
DTSTAMP:20260420T021939
CREATED:20251104T190910Z
LAST-MODIFIED:20260302T170318Z
UID:3844-1772623800-1772631000@themetroclub.com
SUMMARY:Metro Club Meeting Onsite - Kisik Commercial Furniture
DESCRIPTION:My Canadian manufacturer\, Global Furniture Group\, and Kisik will be hosting a lunch and learn for The Metro Club at the newly renovated Global Showroom with a tour of the showroom after presentation\, time permitting.  Come and hear Destiny Seymour\, Anishinaabe Interior Designer\, who create an Indigenous theme in the design of the space.\n\nWhere: 220-111 Lombard Ave\nWhen: March 4th 11:30-1:30pm\nRSVP – By Feb 20th
URL:https://themetroclub.com/event/metro-club-meeting-onsite-kisik-commercial-furniture/
LOCATION:Manitoba
CATEGORIES:Social Events
ATTACH;FMTTYPE=image/jpeg:https://themetroclub.com/wp-content/uploads/2022/03/Darrell-Brown.jpg
END:VEVENT
BEGIN:VEVENT
DTSTART;TZID=America/Winnipeg:20260318T120000
DTEND;TZID=America/Winnipeg:20260318T133000
DTSTAMP:20260420T021939
CREATED:20251104T191123Z
LAST-MODIFIED:20251104T191123Z
UID:3847-1773835200-1773840600@themetroclub.com
SUMMARY:Metro Club Meeting - Ft Garry Hotel
DESCRIPTION:Speaker – Pavel Valenta \nTopic – TBD
URL:https://themetroclub.com/event/metro-club-meeting-ft-garry-hotel-6/
LOCATION:Fort Gary Hotel\, 222 Broadway\, Winnipeg\, Manitoba\, R3C0R3\, Canada
CATEGORIES:Hotel Lunch
ATTACH;FMTTYPE=image/jpeg:https://themetroclub.com/wp-content/uploads/2023/06/PAVEL.jpg
END:VEVENT
BEGIN:VEVENT
DTSTART;TZID=America/Winnipeg:20260415T120000
DTEND;TZID=America/Winnipeg:20260415T133000
DTSTAMP:20260420T021939
CREATED:20251104T181825Z
LAST-MODIFIED:20260410T183349Z
UID:3856-1776254400-1776259800@themetroclub.com
SUMMARY:Metro Club Meeting - Ft. Garry Hotel
DESCRIPTION:Speaker – Neil Rykiss \nTopic – TBD
URL:https://themetroclub.com/event/metro-club-meeting-ft-garry-hotel-8/
LOCATION:Fort Gary Hotel\, 222 Broadway\, Winnipeg\, Manitoba\, R3C0R3\, Canada
CATEGORIES:Hotel Lunch
ATTACH;FMTTYPE=image/jpeg:https://themetroclub.com/wp-content/uploads/2023/06/NEIL_WEB.jpg
END:VEVENT
BEGIN:VEVENT
DTSTART;TZID=America/Winnipeg:20260429T120000
DTEND;TZID=America/Winnipeg:20260429T133000
DTSTAMP:20260420T021939
CREATED:20251104T191538Z
LAST-MODIFIED:20260227T204248Z
UID:3853-1777464000-1777469400@themetroclub.com
SUMMARY:Metro Club Meeting - Guest Speaker: Dale Vencatasamy
DESCRIPTION:Dale from Carpets For Less will be our guest speaker for today!
URL:https://themetroclub.com/event/metro-club-meeting-guest-speaker/
LOCATION:Fort Gary Hotel\, 222 Broadway\, Winnipeg\, Manitoba\, R3C0R3\, Canada
CATEGORIES:Hotel Lunch
ATTACH;FMTTYPE=image/jpeg:https://themetroclub.com/wp-content/uploads/2025/11/Dale-V.jpg
END:VEVENT
BEGIN:VEVENT
DTSTART;TZID=America/Winnipeg:20260513T120000
DTEND;TZID=America/Winnipeg:20260513T133000
DTSTAMP:20260420T021939
CREATED:20251104T192304Z
LAST-MODIFIED:20251104T192304Z
UID:3860-1778673600-1778679000@themetroclub.com
SUMMARY:Metro Club Meeting - Ft Garry Hotel
DESCRIPTION:Speaker – Brent Kaneski \nTopic – TBD
URL:https://themetroclub.com/event/metro-club-meeting-ft-garry-hotel-7/
LOCATION:Fort Gary Hotel\, 222 Broadway\, Winnipeg\, Manitoba\, R3C0R3\, Canada
CATEGORIES:Hotel Lunch
ATTACH;FMTTYPE=image/jpeg:https://themetroclub.com/wp-content/uploads/2021/12/61705d4b642ed-bpfull.jpeg
END:VEVENT
BEGIN:VEVENT
DTSTART;TZID=America/Winnipeg:20260528T110000
DTEND;TZID=America/Winnipeg:20260528T160000
DTSTAMP:20260420T021939
CREATED:20251104T192525Z
LAST-MODIFIED:20260317T192442Z
UID:3863-1779966000-1779984000@themetroclub.com
SUMMARY:Metro Club - Golf
DESCRIPTION:Details to follow.
URL:https://themetroclub.com/event/metro-club-golf/
LOCATION:Manitoba
CATEGORIES:Social Events
ATTACH;FMTTYPE=image/png:https://themetroclub.com/wp-content/uploads/2022/03/140399.png
END:VEVENT
BEGIN:VEVENT
DTSTART;TZID=America/Winnipeg:20260610T120000
DTEND;TZID=America/Winnipeg:20260610T133000
DTSTAMP:20260420T021939
CREATED:20260213T182823Z
LAST-MODIFIED:20260227T204541Z
UID:4151-1781092800-1781098200@themetroclub.com
SUMMARY:Metro Club Meeting - Guest Speaker: ModifyMe
DESCRIPTION:Guest Speaker will be Joseph from ModifyMe \nLocation is TBD
URL:https://themetroclub.com/event/metro-club-meeting-guest-speaker-2/
LOCATION:Fort Gary Hotel\, 222 Broadway\, Winnipeg\, Manitoba\, R3C0R3\, Canada
CATEGORIES:Hotel Lunch,Social Events
ATTACH;FMTTYPE=image/jpeg:https://themetroclub.com/wp-content/uploads/2021/06/Metro-Logo.jpg
END:VEVENT
BEGIN:VEVENT
DTSTART;TZID=America/Winnipeg:20260624T120000
DTEND;TZID=America/Winnipeg:20260624T133000
DTSTAMP:20260420T021939
CREATED:20260227T202449Z
LAST-MODIFIED:20260401T195559Z
UID:4177-1782302400-1782307800@themetroclub.com
SUMMARY:Metro Club Meeting - Keystone Granite
DESCRIPTION:Keystone Granite will be hosing todays lunch at their location. \n62 S Landing Dr\, Oak Bluff\, MB R4G 0C4 \nDetails to follow.
URL:https://themetroclub.com/event/metro-club-meeting-ft-garry-hotel-9/
LOCATION:62 S Landing Dr\, Oak Bluff\, MB R4G 0C4\, 62 S Landing Drive\, Oak Bluff\, Manitoba\, R4G 0C4\, Canada
CATEGORIES:Hotel Lunch
ATTACH;FMTTYPE=image/jpeg:https://themetroclub.com/wp-content/uploads/2021/06/Metro-Logo.jpg
END:VEVENT
BEGIN:VEVENT
DTSTART;TZID=America/Winnipeg:20260708T120000
DTEND;TZID=America/Winnipeg:20260708T133000
DTSTAMP:20260420T021939
CREATED:20260227T202614Z
LAST-MODIFIED:20260227T203454Z
UID:4179-1783512000-1783517400@themetroclub.com
SUMMARY:Metro Club Meeting - Ft. Garry Hotel
DESCRIPTION:Details to follow.
URL:https://themetroclub.com/event/metro-club-meeting-ft-garry-hotel-10/
LOCATION:Fort Gary Hotel\, 222 Broadway\, Winnipeg\, Manitoba\, R3C0R3\, Canada
CATEGORIES:Hotel Lunch
ATTACH;FMTTYPE=image/jpeg:https://themetroclub.com/wp-content/uploads/2021/06/Metro-Logo.jpg
END:VEVENT
BEGIN:VEVENT
DTSTART;TZID=America/Winnipeg:20260812T150000
DTEND;TZID=America/Winnipeg:20260812T180000
DTSTAMP:20260420T021939
CREATED:20260227T202748Z
LAST-MODIFIED:20260227T203426Z
UID:4181-1786546800-1786557600@themetroclub.com
SUMMARY:Metro Club - Social Mixer
DESCRIPTION:Details to follow.
URL:https://themetroclub.com/event/metro-club-social-mixer/
LOCATION:Manitoba
CATEGORIES:Social Events
ATTACH;FMTTYPE=image/png:https://themetroclub.com/wp-content/uploads/2023/09/Wine-and-Cheese-Icon.png
END:VEVENT
BEGIN:VEVENT
DTSTART;TZID=America/Winnipeg:20260826T120000
DTEND;TZID=America/Winnipeg:20260826T133000
DTSTAMP:20260420T021939
CREATED:20260227T202909Z
LAST-MODIFIED:20260227T203358Z
UID:4183-1787745600-1787751000@themetroclub.com
SUMMARY:Metro Club Meeting - Ft. Garry Hotel
DESCRIPTION:Details to follow.
URL:https://themetroclub.com/event/metro-club-meeting-ft-garry-hotel-11/
LOCATION:Fort Gary Hotel\, 222 Broadway\, Winnipeg\, Manitoba\, R3C0R3\, Canada
CATEGORIES:Hotel Lunch
ATTACH;FMTTYPE=image/jpeg:https://themetroclub.com/wp-content/uploads/2021/06/Metro-Logo.jpg
END:VEVENT
BEGIN:VEVENT
DTSTART;TZID=America/Winnipeg:20260909T120000
DTEND;TZID=America/Winnipeg:20260909T133000
DTSTAMP:20260420T021939
CREATED:20260227T203029Z
LAST-MODIFIED:20260227T203329Z
UID:4185-1788955200-1788960600@themetroclub.com
SUMMARY:Metro Club Meeting - Ft. Garry Hotel
DESCRIPTION:Details to follow.
URL:https://themetroclub.com/event/metro-club-meeting-ft-garry-hotel-12/
LOCATION:Fort Gary Hotel\, 222 Broadway\, Winnipeg\, Manitoba\, R3C0R3\, Canada
CATEGORIES:Hotel Lunch
ATTACH;FMTTYPE=image/jpeg:https://themetroclub.com/wp-content/uploads/2021/06/Metro-Logo.jpg
END:VEVENT
BEGIN:VEVENT
DTSTART;TZID=America/Winnipeg:20260916T120000
DTEND;TZID=America/Winnipeg:20260916T133000
DTSTAMP:20260420T021939
CREATED:20260227T203244Z
LAST-MODIFIED:20260227T203244Z
UID:4187-1789560000-1789565400@themetroclub.com
SUMMARY:Metro Club Meeting - AGM
DESCRIPTION:Details to follow.
URL:https://themetroclub.com/event/metro-club-meeting-agm/
LOCATION:Fort Gary Hotel\, 222 Broadway\, Winnipeg\, Manitoba\, R3C0R3\, Canada
CATEGORIES:Hotel Lunch
ATTACH;FMTTYPE=image/webp:https://themetroclub.com/wp-content/uploads/2024/03/free-nomination-1149340.webp
END:VEVENT
BEGIN:VEVENT
DTSTART;TZID=America/Winnipeg:20260923T120000
DTEND;TZID=America/Winnipeg:20260923T133000
DTSTAMP:20260420T021939
CREATED:20260227T203708Z
LAST-MODIFIED:20260227T203708Z
UID:4195-1790164800-1790170200@themetroclub.com
SUMMARY:Metro Club Meeting - Elections
DESCRIPTION:Details to follow.
URL:https://themetroclub.com/event/metro-club-meeting-elections/
LOCATION:Fort Gary Hotel\, 222 Broadway\, Winnipeg\, Manitoba\, R3C0R3\, Canada
CATEGORIES:Hotel Lunch
ATTACH;FMTTYPE=image/jpeg:https://themetroclub.com/wp-content/uploads/2023/06/1000_F_472960132_3asVirEZP1fiGQxBTELo1ffMgH5bNiN6.jpg
END:VEVENT
BEGIN:VEVENT
DTSTART;TZID=America/Winnipeg:20261007T120000
DTEND;TZID=America/Winnipeg:20261007T133000
DTSTAMP:20260420T021939
CREATED:20260227T203832Z
LAST-MODIFIED:20260227T203832Z
UID:4198-1791374400-1791379800@themetroclub.com
SUMMARY:Metro Club Meeting - Ft. Garry Hotel
DESCRIPTION:Details to follow.
URL:https://themetroclub.com/event/metro-club-meeting-ft-garry-hotel-13/
LOCATION:Fort Gary Hotel\, 222 Broadway\, Winnipeg\, Manitoba\, R3C0R3\, Canada
CATEGORIES:Hotel Lunch
ATTACH;FMTTYPE=image/jpeg:https://themetroclub.com/wp-content/uploads/2021/06/Metro-Logo.jpg
END:VEVENT
BEGIN:VEVENT
DTSTART;TZID=America/Winnipeg:20261021T120000
DTEND;TZID=America/Winnipeg:20261021T133000
DTSTAMP:20260420T021939
CREATED:20260227T203949Z
LAST-MODIFIED:20260227T203949Z
UID:4201-1792584000-1792589400@themetroclub.com
SUMMARY:Metro Club Meeting - Ft. Garry Hotel
DESCRIPTION:Details to follow
URL:https://themetroclub.com/event/metro-club-meeting-ft-garry-hotel-14/
LOCATION:Fort Gary Hotel\, 222 Broadway\, Winnipeg\, Manitoba\, R3C0R3\, Canada
CATEGORIES:Hotel Lunch
ATTACH;FMTTYPE=image/jpeg:https://themetroclub.com/wp-content/uploads/2021/06/Metro-Logo.jpg
END:VEVENT
END:VCALENDAR